BEGIN:VCALENDAR
VERSION:2.0
PRODID:icalendar-ruby
CALSCALE:GREGORIAN
METHOD:PUBLISH
BEGIN:VEVENT
DTSTAMP:20260424T165908Z
UID:8-1611483@ourcitadel.com
DTSTART:20261004T143000Z
DTEND:20261004T163000Z
CLASS:PUBLIC
CREATED:20260424T124955
DESCRIPTION:
LAST-MODIFIED:20260424T124955
LOCATION:Join Via Zoom: https://zoom.us/j/974149810
SUMMARY:Sunday Worship
URL;VALUE=URI:https://www.ourcitadel.com/events/sunday-worship--8/2026-10-0
 4
ATTACH;FILENAME=IMG_20200523_112822_03_01.jpg;FMTTYPE=image/jpeg:https://dq
 5pwpg1q8ru0.cloudfront.net/2020/12/21/18/08/46/d79cc4b3-9595-4fc0-9cf7-452
 b8aabb321/IMG_20200523_112822_03_01.jpg
END:VEVENT
END:VCALENDAR
